BEGIN:VCALENDAR
VERSION:2.0
PRODID:-//Main-Vogelsberg-Schachverband - ECPv6.15.20//NONSGML v1.0//EN
CALSCALE:GREGORIAN
METHOD:PUBLISH
X-WR-CALNAME:Main-Vogelsberg-Schachverband
X-ORIGINAL-URL:https://uv4.org
X-WR-CALDESC:Veranstaltungen für Main-Vogelsberg-Schachverband
REFRESH-INTERVAL;VALUE=DURATION:PT1H
X-Robots-Tag:noindex
X-PUBLISHED-TTL:PT1H
BEGIN:VTIMEZONE
TZID:Europe/Berlin
BEGIN:DAYLIGHT
TZOFFSETFROM:+0100
TZOFFSETTO:+0200
TZNAME:CEST
DTSTART:20240331T010000
END:DAYLIGHT
BEGIN:STANDARD
TZOFFSETFROM:+0200
TZOFFSETTO:+0100
TZNAME:CET
DTSTART:20241027T010000
END:STANDARD
BEGIN:DAYLIGHT
TZOFFSETFROM:+0100
TZOFFSETTO:+0200
TZNAME:CEST
DTSTART:20250330T010000
END:DAYLIGHT
BEGIN:STANDARD
TZOFFSETFROM:+0200
TZOFFSETTO:+0100
TZNAME:CET
DTSTART:20251026T010000
END:STANDARD
BEGIN:DAYLIGHT
TZOFFSETFROM:+0100
TZOFFSETTO:+0200
TZNAME:CEST
DTSTART:20260329T010000
END:DAYLIGHT
BEGIN:STANDARD
TZOFFSETFROM:+0200
TZOFFSETTO:+0100
TZNAME:CET
DTSTART:20261025T010000
END:STANDARD
END:VTIMEZONE
BEGIN:VEVENT
DTSTART;VALUE=DATE:20250809
DTEND;VALUE=DATE:20250810
DTSTAMP:20260421T111154
CREATED:20250620T170402Z
LAST-MODIFIED:20250620T170412Z
UID:4720-1754697600-1754783999@uv4.org
SUMMARY:HSV-Blitz-EM 2025
DESCRIPTION:https://www.hessischer-schachverband.de/spielleitung-einzel/blitz-einzel/2025
URL:https://uv4.org/event/hsv-blitz-em-2025/
CATEGORIES:HSJ
END:VEVENT
END:VCALENDAR