BEGIN:VCALENDAR
VERSION:2.0
PRODID:-//Main-Vogelsberg-Schachverband - ECPv6.15.20//NONSGML v1.0//EN
CALSCALE:GREGORIAN
METHOD:PUBLISH
X-WR-CALNAME:Main-Vogelsberg-Schachverband
X-ORIGINAL-URL:https://uv4.org
X-WR-CALDESC:Veranstaltungen für Main-Vogelsberg-Schachverband
REFRESH-INTERVAL;VALUE=DURATION:PT1H
X-Robots-Tag:noindex
X-PUBLISHED-TTL:PT1H
BEGIN:VTIMEZONE
TZID:Europe/Berlin
BEGIN:DAYLIGHT
TZOFFSETFROM:+0100
TZOFFSETTO:+0200
TZNAME:CEST
DTSTART:20250330T010000
END:DAYLIGHT
BEGIN:STANDARD
TZOFFSETFROM:+0200
TZOFFSETTO:+0100
TZNAME:CET
DTSTART:20251026T010000
END:STANDARD
BEGIN:DAYLIGHT
TZOFFSETFROM:+0100
TZOFFSETTO:+0200
TZNAME:CEST
DTSTART:20260329T010000
END:DAYLIGHT
BEGIN:STANDARD
TZOFFSETFROM:+0200
TZOFFSETTO:+0100
TZNAME:CET
DTSTART:20261025T010000
END:STANDARD
BEGIN:DAYLIGHT
TZOFFSETFROM:+0100
TZOFFSETTO:+0200
TZNAME:CEST
DTSTART:20270328T010000
END:DAYLIGHT
BEGIN:STANDARD
TZOFFSETFROM:+0200
TZOFFSETTO:+0100
TZNAME:CET
DTSTART:20271031T010000
END:STANDARD
END:VTIMEZONE
BEGIN:VEVENT
DTSTART;TZID=Europe/Berlin:20260307T160000
DTEND;TZID=Europe/Berlin:20260307T173000
DTSTAMP:20260420T121820
CREATED:20260221T220326Z
LAST-MODIFIED:20260221T220326Z
UID:5011-1772899200-1772904600@uv4.org
SUMMARY:MVSJ-JHV
DESCRIPTION:MVSJ-JHV
URL:https://uv4.org/event/mvsj-jhv-2/
LOCATION:1. Hainstädter SC\, Hauptstraße 82\, Hainburg\, Hessen\, 63512\, Deutschland
CATEGORIES:MVSJ
END:VEVENT
BEGIN:VEVENT
DTSTART;TZID=Europe/Berlin:20260314T090000
DTEND;TZID=Europe/Berlin:20260315T133000
DTSTAMP:20260420T121820
CREATED:20251206T211246Z
LAST-MODIFIED:20251206T212618Z
UID:4952-1773478800-1773581400@uv4.org
SUMMARY:Schiedsrichter-Lehrgang in Offenbach
DESCRIPTION:
URL:https://uv4.org/event/schiedsrichter-lehrgang-in-offenbach/
LOCATION:Mensa der Leibnizschule\, Brandsbornstr. 11\, Offenbach\, Hessen\, 63069\, Deutschland
CATEGORIES:HSJ,Termine
END:VEVENT
BEGIN:VEVENT
DTSTART;TZID=Europe/Berlin:20260315T093000
DTEND;TZID=Europe/Berlin:20260315T160000
DTSTAMP:20260420T121820
CREATED:20260126T220325Z
LAST-MODIFIED:20260126T220723Z
UID:4973-1773567000-1773590400@uv4.org
SUMMARY:39. Gründaupokal
DESCRIPTION:
URL:https://uv4.org/event/39-gruendaupokal/
LOCATION:Gemeinschaftshaus\, Frankfurter Str. 27\, Gründau\, Hessen\, 63584\, Germany
CATEGORIES:Termine
ORGANIZER;CN="SK Gr%C3%BCndau":MAILTO:gruendaupokal@sk-gruendau.de
END:VEVENT
BEGIN:VEVENT
DTSTART;TZID=Europe/Berlin:20260321T140000
DTEND;TZID=Europe/Berlin:20260321T160000
DTSTAMP:20260420T121820
CREATED:20260221T215945Z
LAST-MODIFIED:20260221T215945Z
UID:5008-1774101600-1774108800@uv4.org
SUMMARY:MVS-JHV
DESCRIPTION:MVS-JHV
URL:https://uv4.org/event/mvs-jhv-3/
LOCATION:Kulturhalle Steinheim (Bürgerhaus) (Bedarfsgaststätte)\, Ludwigstr. 67\, Hanau-Steinheim\, Hessen\, 63456\, Germany
CATEGORIES:MVS
END:VEVENT
END:VCALENDAR