BEGIN:VCALENDAR
VERSION:2.0
PRODID:-//Main-Vogelsberg-Schachverband - ECPv6.15.20//NONSGML v1.0//EN
CALSCALE:GREGORIAN
METHOD:PUBLISH
X-WR-CALNAME:Main-Vogelsberg-Schachverband
X-ORIGINAL-URL:https://uv4.org
X-WR-CALDESC:Veranstaltungen für Main-Vogelsberg-Schachverband
REFRESH-INTERVAL;VALUE=DURATION:PT1H
X-Robots-Tag:noindex
X-PUBLISHED-TTL:PT1H
BEGIN:VTIMEZONE
TZID:Europe/Berlin
BEGIN:DAYLIGHT
TZOFFSETFROM:+0100
TZOFFSETTO:+0200
TZNAME:CEST
DTSTART:20250330T010000
END:DAYLIGHT
BEGIN:STANDARD
TZOFFSETFROM:+0200
TZOFFSETTO:+0100
TZNAME:CET
DTSTART:20251026T010000
END:STANDARD
BEGIN:DAYLIGHT
TZOFFSETFROM:+0100
TZOFFSETTO:+0200
TZNAME:CEST
DTSTART:20260329T010000
END:DAYLIGHT
BEGIN:STANDARD
TZOFFSETFROM:+0200
TZOFFSETTO:+0100
TZNAME:CET
DTSTART:20261025T010000
END:STANDARD
BEGIN:DAYLIGHT
TZOFFSETFROM:+0100
TZOFFSETTO:+0200
TZNAME:CEST
DTSTART:20270328T010000
END:DAYLIGHT
BEGIN:STANDARD
TZOFFSETFROM:+0200
TZOFFSETTO:+0100
TZNAME:CET
DTSTART:20271031T010000
END:STANDARD
END:VTIMEZONE
BEGIN:VEVENT
DTSTART;TZID=Europe/Berlin:20260517T100000
DTEND;TZID=Europe/Berlin:20260517T190000
DTSTAMP:20260420T141018
CREATED:20260313T150446Z
LAST-MODIFIED:20260313T150446Z
UID:5067-1779012000-1779044400@uv4.org
SUMMARY:Offene Schnellschach-EM
DESCRIPTION:
URL:https://uv4.org/event/offene-schnellschach-em/
LOCATION:Bürgerhaus Wolfgang\, Schanzenstr. 8\, Hanau\, Hessen\, 63457
CATEGORIES:MVS,Termine
END:VEVENT
END:VCALENDAR