BEGIN:VCALENDAR
VERSION:2.0
PRODID:-//Main-Vogelsberg-Schachverband - ECPv6.15.20//NONSGML v1.0//EN
CALSCALE:GREGORIAN
METHOD:PUBLISH
X-ORIGINAL-URL:https://uv4.org
X-WR-CALDESC:Veranstaltungen für Main-Vogelsberg-Schachverband
REFRESH-INTERVAL;VALUE=DURATION:PT1H
X-Robots-Tag:noindex
X-PUBLISHED-TTL:PT1H
BEGIN:VTIMEZONE
TZID:Europe/Berlin
BEGIN:DAYLIGHT
TZOFFSETFROM:+0100
TZOFFSETTO:+0200
TZNAME:CEST
DTSTART:20240331T010000
END:DAYLIGHT
BEGIN:STANDARD
TZOFFSETFROM:+0200
TZOFFSETTO:+0100
TZNAME:CET
DTSTART:20241027T010000
END:STANDARD
BEGIN:DAYLIGHT
TZOFFSETFROM:+0100
TZOFFSETTO:+0200
TZNAME:CEST
DTSTART:20250330T010000
END:DAYLIGHT
BEGIN:STANDARD
TZOFFSETFROM:+0200
TZOFFSETTO:+0100
TZNAME:CET
DTSTART:20251026T010000
END:STANDARD
BEGIN:DAYLIGHT
TZOFFSETFROM:+0100
TZOFFSETTO:+0200
TZNAME:CEST
DTSTART:20260329T010000
END:DAYLIGHT
BEGIN:STANDARD
TZOFFSETFROM:+0200
TZOFFSETTO:+0100
TZNAME:CET
DTSTART:20261025T010000
END:STANDARD
END:VTIMEZONE
BEGIN:VEVENT
DTSTART;TZID=Europe/Berlin:20251108T094500
DTEND;TZID=Europe/Berlin:20251108T170000
DTSTAMP:20260420T202219
CREATED:20251101T191413Z
LAST-MODIFIED:20251101T191413Z
UID:4939-1762595100-1762621200@uv4.org
SUMMARY:Senioren-Schnellschach-Turnier für alle Spieler Ü50 des SK Marburg
DESCRIPTION:https://uv4.org/wp-admin/post.php?post=4934&action=edit
URL:https://uv4.org/event/senioren-schnellschach-turnier-fuer-alle-spieler-ue50-des-sk-marburg/
LOCATION:Landhotel Bellevue\, Hauptstr. 30\, Weimar\, Hessen\, 35069
CATEGORIES:Termine
END:VEVENT
END:VCALENDAR